BEGIN:VCALENDAR
VERSION:2.0
PRODID:-//Biserica9//Calendar//RO
CALSCALE:GREGORIAN
METHOD:PUBLISH
BEGIN:VEVENT
SUMMARY:Rugăciune și mijlocire
DTSTART;TZID=Europe/Berlin:20260422T190000
DTEND;TZID=Europe/Berlin:20260422T203000
DTSTAMP:20250227T092207Z
UID:8e5213ed-03ec-4acf-9341-03f5515ce2f1@biserica9.de
SEQUENCE:0
LAST-MODIFIED:20250227T092207Z
LOCATION:Moosheimer Str. 20\, 70599 Stuttgart
URL:https://biserica9.de/calendar/165/
END:VEVENT
END:VCALENDAR
