BEGIN:VCALENDAR
VERSION:2.0
PRODID:-//Biserica9//Calendar//RO
CALSCALE:GREGORIAN
METHOD:PUBLISH
BEGIN:VEVENT
SUMMARY:Grupa de casa
DTSTART;TZID=Europe/Berlin:20260424T183000
DTEND;TZID=Europe/Berlin:20260424T210000
DTSTAMP:20260311T201039Z
UID:b3ad845c-3eb1-4421-85f9-e7eb7c4c3663@biserica9.de
SEQUENCE:0
DESCRIPTION:Hausgruppe în Birkach
LAST-MODIFIED:20260414T205830Z
URL:https://biserica9.de/calendar/584/
END:VEVENT
END:VCALENDAR
